BEGIN:VCALENDAR
VERSION:2.0
PRODID:-//RoundMusic - ECPv6.15.20//NONSGML v1.0//EN
CALSCALE:GREGORIAN
METHOD:PUBLISH
X-WR-CALNAME:RoundMusic
X-ORIGINAL-URL:https://roundmusic.com
X-WR-CALDESC:Events for RoundMusic
REFRESH-INTERVAL;VALUE=DURATION:PT1H
X-Robots-Tag:noindex
X-PUBLISHED-TTL:PT1H
BEGIN:VTIMEZONE
TZID:America/Los_Angeles
BEGIN:DAYLIGHT
TZOFFSETFROM:-0800
TZOFFSETTO:-0700
TZNAME:PDT
DTSTART:20250309T100000
END:DAYLIGHT
BEGIN:STANDARD
TZOFFSETFROM:-0700
TZOFFSETTO:-0800
TZNAME:PST
DTSTART:20251102T090000
END:STANDARD
BEGIN:DAYLIGHT
TZOFFSETFROM:-0800
TZOFFSETTO:-0700
TZNAME:PDT
DTSTART:20260308T100000
END:DAYLIGHT
BEGIN:STANDARD
TZOFFSETFROM:-0700
TZOFFSETTO:-0800
TZNAME:PST
DTSTART:20261101T090000
END:STANDARD
BEGIN:DAYLIGHT
TZOFFSETFROM:-0800
TZOFFSETTO:-0700
TZNAME:PDT
DTSTART:20270314T100000
END:DAYLIGHT
BEGIN:STANDARD
TZOFFSETFROM:-0700
TZOFFSETTO:-0800
TZNAME:PST
DTSTART:20271107T090000
END:STANDARD
END:VTIMEZONE
BEGIN:VEVENT
DTSTART;TZID=America/Los_Angeles:20260301T183000
DTEND;TZID=America/Los_Angeles:20260301T203000
DTSTAMP:20260421T082136
CREATED:20251118T164008Z
LAST-MODIFIED:20260311T195501Z
UID:10003559-1772389800-1772397000@roundmusic.com
SUMMARY:Great Comet at The Brass Kraken
DESCRIPTION:Great Comet\, the Americana-tinged indie rock project of songwriter Aaron New\, has always been a study in motion\, but with the release of the sonically expansive second album\, Stranger Land\, that motion has found a new direction—a deliberate journey through the spaces between. The album is a powerful document of life on the road\, of experiencing lasting love alongside devastating loss\, and finding a home in the hushed moments of a world seen through a car window. \nThis newfound dynamic range is the core of Great Comet’s live show\, where the band careens from anthemic\, in-your-face rock to moments of pin-drop intimacy. Though the performance pushes into electrifying new territory\, the project remains grounded in New’s Appalachian roots\, blending a reverence for classic storytelling with a modern indie edge. Stranger Land is more than an album; it’s the title of an ongoing story\, capturing a pivotal moment for a project defined by change and proving that for Great Comet\, the destination is still unknown\, but the path forward has never been more compelling.
URL:https://roundmusic.com/event/great-comet-at-the-brass-kraken/2026-03-01/
LOCATION:The Brass Kraken\, 18779 Front St NE #7407\, Poulsbo\, WA\, 98370\, United States
CATEGORIES:Acoustic Rock,Folk
ATTACH;FMTTYPE=image/png:https://roundmusic.com/wp-content/uploads/2025/11/Photo-editing.png
END:VEVENT
END:VCALENDAR