BEGIN:VCALENDAR
VERSION:2.0
PRODID:-//RoundMusic - ECPv6.15.20//NONSGML v1.0//EN
CALSCALE:GREGORIAN
METHOD:PUBLISH
X-ORIGINAL-URL:https://roundmusic.com
X-WR-CALDESC:Events for RoundMusic
REFRESH-INTERVAL;VALUE=DURATION:PT1H
X-Robots-Tag:noindex
X-PUBLISHED-TTL:PT1H
BEGIN:VTIMEZONE
TZID:America/Los_Angeles
BEGIN:DAYLIGHT
TZOFFSETFROM:-0800
TZOFFSETTO:-0700
TZNAME:PDT
DTSTART:20210314T100000
END:DAYLIGHT
BEGIN:STANDARD
TZOFFSETFROM:-0700
TZOFFSETTO:-0800
TZNAME:PST
DTSTART:20211107T090000
END:STANDARD
BEGIN:DAYLIGHT
TZOFFSETFROM:-0800
TZOFFSETTO:-0700
TZNAME:PDT
DTSTART:20220313T100000
END:DAYLIGHT
BEGIN:STANDARD
TZOFFSETFROM:-0700
TZOFFSETTO:-0800
TZNAME:PST
DTSTART:20221106T090000
END:STANDARD
BEGIN:DAYLIGHT
TZOFFSETFROM:-0800
TZOFFSETTO:-0700
TZNAME:PDT
DTSTART:20230312T100000
END:DAYLIGHT
BEGIN:STANDARD
TZOFFSETFROM:-0700
TZOFFSETTO:-0800
TZNAME:PST
DTSTART:20231105T090000
END:STANDARD
BEGIN:DAYLIGHT
TZOFFSETFROM:-0800
TZOFFSETTO:-0700
TZNAME:PDT
DTSTART:20240310T100000
END:DAYLIGHT
BEGIN:STANDARD
TZOFFSETFROM:-0700
TZOFFSETTO:-0800
TZNAME:PST
DTSTART:20241103T090000
END:STANDARD
BEGIN:DAYLIGHT
TZOFFSETFROM:-0800
TZOFFSETTO:-0700
TZNAME:PDT
DTSTART:20250309T100000
END:DAYLIGHT
BEGIN:STANDARD
TZOFFSETFROM:-0700
TZOFFSETTO:-0800
TZNAME:PST
DTSTART:20251102T090000
END:STANDARD
BEGIN:DAYLIGHT
TZOFFSETFROM:-0800
TZOFFSETTO:-0700
TZNAME:PDT
DTSTART:20260308T100000
END:DAYLIGHT
BEGIN:STANDARD
TZOFFSETFROM:-0700
TZOFFSETTO:-0800
TZNAME:PST
DTSTART:20261101T090000
END:STANDARD
BEGIN:DAYLIGHT
TZOFFSETFROM:-0800
TZOFFSETTO:-0700
TZNAME:PDT
DTSTART:20270314T100000
END:DAYLIGHT
BEGIN:STANDARD
TZOFFSETFROM:-0700
TZOFFSETTO:-0800
TZNAME:PST
DTSTART:20271107T090000
END:STANDARD
END:VTIMEZONE
BEGIN:VEVENT
DTSTART;TZID=America/Los_Angeles:20260301T183000
DTEND;TZID=America/Los_Angeles:20260301T203000
DTSTAMP:20260425T034053
CREATED:20251118T164008Z
LAST-MODIFIED:20260311T195501Z
UID:10003559-1772389800-1772397000@roundmusic.com
SUMMARY:Great Comet at The Brass Kraken
DESCRIPTION:Great Comet\, the Americana-tinged indie rock project of songwriter Aaron New\, has always been a study in motion\, but with the release of the sonically expansive second album\, Stranger Land\, that motion has found a new direction—a deliberate journey through the spaces between. The album is a powerful document of life on the road\, of experiencing lasting love alongside devastating loss\, and finding a home in the hushed moments of a world seen through a car window. \nThis newfound dynamic range is the core of Great Comet’s live show\, where the band careens from anthemic\, in-your-face rock to moments of pin-drop intimacy. Though the performance pushes into electrifying new territory\, the project remains grounded in New’s Appalachian roots\, blending a reverence for classic storytelling with a modern indie edge. Stranger Land is more than an album; it’s the title of an ongoing story\, capturing a pivotal moment for a project defined by change and proving that for Great Comet\, the destination is still unknown\, but the path forward has never been more compelling.
URL:https://roundmusic.com/event/great-comet-at-the-brass-kraken/2026-03-01/
LOCATION:The Brass Kraken\, 18779 Front St NE #7407\, Poulsbo\, WA\, 98370\, United States
CATEGORIES:Acoustic Rock,Folk
ATTACH;FMTTYPE=image/png:https://roundmusic.com/wp-content/uploads/2025/11/Photo-editing.png
END:VEVENT
BEGIN:VEVENT
DTSTART;TZID=America/Los_Angeles:20260118T183000
DTEND;TZID=America/Los_Angeles:20260118T203000
DTSTAMP:20260425T034053
CREATED:20251118T164008Z
LAST-MODIFIED:20260311T195501Z
UID:10003539-1768761000-1768768200@roundmusic.com
SUMMARY:Great Comet at The Brass Kraken
DESCRIPTION:Great Comet\, the Americana-tinged indie rock project of songwriter Aaron New\, has always been a study in motion\, but with the release of the sonically expansive second album\, Stranger Land\, that motion has found a new direction—a deliberate journey through the spaces between. The album is a powerful document of life on the road\, of experiencing lasting love alongside devastating loss\, and finding a home in the hushed moments of a world seen through a car window. \nThis newfound dynamic range is the core of Great Comet’s live show\, where the band careens from anthemic\, in-your-face rock to moments of pin-drop intimacy. Though the performance pushes into electrifying new territory\, the project remains grounded in New’s Appalachian roots\, blending a reverence for classic storytelling with a modern indie edge. Stranger Land is more than an album; it’s the title of an ongoing story\, capturing a pivotal moment for a project defined by change and proving that for Great Comet\, the destination is still unknown\, but the path forward has never been more compelling.
URL:https://roundmusic.com/event/great-comet-at-the-brass-kraken/2026-01-18/
LOCATION:The Brass Kraken\, 18779 Front St NE #7407\, Poulsbo\, WA\, 98370\, United States
CATEGORIES:Acoustic Rock,Folk
ATTACH;FMTTYPE=image/png:https://roundmusic.com/wp-content/uploads/2025/11/Photo-editing.png
END:VEVENT
BEGIN:VEVENT
DTSTART;TZID=America/Los_Angeles:20230519T200000
DTEND;TZID=America/Los_Angeles:20230519T220000
DTSTAMP:20260425T034053
CREATED:20230506T183736Z
LAST-MODIFIED:20230506T183736Z
UID:10003002-1684526400-1684533600@roundmusic.com
SUMMARY:The Walker Trio at The Rock (wood fired pizza)
DESCRIPTION:The Trio is playing at this new venue at the Silverdale Mall. Great pizza lots of beers!! come on out and help to kick off this new music venue!
URL:https://roundmusic.com/event/the-walker-trio-at-the-rock-wood-fired-pizza/
LOCATION:The Rock wood fired pizza\, 10315 Silverdale Way NW\, Silverdsale\, WA\, 98383
CATEGORIES:Acoustic Rock,Folk
ATTACH;FMTTYPE=image/jpeg:https://roundmusic.com/wp-content/uploads/2023/05/Walker-trio-amos-rotated.jpg
END:VEVENT
BEGIN:VEVENT
DTSTART;TZID=America/Los_Angeles:20230512T180000
DTEND;TZID=America/Los_Angeles:20230512T200000
DTSTAMP:20260425T034053
CREATED:20230506T183230Z
LAST-MODIFIED:20230506T183230Z
UID:10003001-1683914400-1683921600@roundmusic.com
SUMMARY:The Walker Trio at Downpour Brewing
DESCRIPTION:The Walker Trio will be playing at Downpour Brewing Friday May 12. Come on out and have a beer get some food\, enjoy!!
URL:https://roundmusic.com/event/the-walker-trio-at-downpour-brewing/
LOCATION:Downpour Brewing\, 10991 NE State Hwy 104\, Kingston\, WA\, 98346\, United States
CATEGORIES:Acoustic Rock,Folk
ATTACH;FMTTYPE=image/jpeg:https://roundmusic.com/wp-content/uploads/2023/05/walker-trio-wamos-rotated.jpg
END:VEVENT
BEGIN:VEVENT
DTSTART;TZID=America/Los_Angeles:20230318T140000
DTEND;TZID=America/Los_Angeles:20230318T170000
DTSTAMP:20260425T034053
CREATED:20230305T065743Z
LAST-MODIFIED:20230305T065743Z
UID:10002967-1679148000-1679158800@roundmusic.com
SUMMARY:Waiting on V Album Release Party
DESCRIPTION:Please come and help us celebrate the release of our debut album “Songs in the Key of V”!\nEnjoy some live music along with a delicious cider or three…\nWe can’t wait to see you there!
URL:https://roundmusic.com/event/waiting-on-v-album-release-party/
LOCATION:Bushel & Barrel Ciderhouse\, 201 NW Beaver Ridge Lane\, Pouslbo\, WA\, 98370\, United States
CATEGORIES:Bluegrass,Country,Folk
ATTACH;FMTTYPE=image/png:https://roundmusic.com/wp-content/uploads/2023/03/Ad-copy-1-1.png
ORGANIZER;CN="Veronika Jones":MAILTO:veronika.j.82@gmail.com
END:VEVENT
BEGIN:VEVENT
DTSTART;TZID=America/Los_Angeles:20230317T190000
DTEND;TZID=America/Los_Angeles:20230317T210000
DTSTAMP:20260425T034053
CREATED:20230305T063815Z
LAST-MODIFIED:20230305T063815Z
UID:10002966-1679079600-1679086800@roundmusic.com
SUMMARY:Waiting on V St. Patrick's Day Edition
DESCRIPTION:Please join us for an evening of live music with Waiting on V!\nIn celebration of St. Patrick’s Day we’re adding a bunch of Irish tunes to our mix of feel-good Originals\, Folk\, Americana\, Country and Oldies…
URL:https://roundmusic.com/event/waiting-on-v-st-patricks-day-edition-2/
LOCATION:Hood Canal Brewery\, 26499 Bond Rd NE\, Kingston\, WA\, 98346\, United States
CATEGORIES:Bluegrass,Country,Folk
ATTACH;FMTTYPE=image/png:https://roundmusic.com/wp-content/uploads/2023/03/St.-Patrick-1.png
END:VEVENT
BEGIN:VEVENT
DTSTART;TZID=America/Los_Angeles:20230317T150000
DTEND;TZID=America/Los_Angeles:20230317T173000
DTSTAMP:20260425T034053
CREATED:20230305T062624Z
LAST-MODIFIED:20230305T064618Z
UID:10002965-1679065200-1679074200@roundmusic.com
SUMMARY:Waiting on V St. Patrick’s Day Edition
DESCRIPTION:Please join us for an afternoon of live music with Waiting on V!\nIn celebration of St. Patrick’s Day we’re adding a bunch of Irish tunes to our mix of feel-good Originals\, Folk\, Americana\, Country and Oldies…
URL:https://roundmusic.com/event/waiting-on-v-st-patricks-day-edition/
LOCATION:Echoes Brewing Company\, 19479 Viking Ave NW\, Poulsbo\, WA\, 98370\, United States
CATEGORIES:Bluegrass,Country,Folk
ATTACH;FMTTYPE=image/png:https://roundmusic.com/wp-content/uploads/2023/03/My-project-1-2.png
END:VEVENT
BEGIN:VEVENT
DTSTART;TZID=America/Los_Angeles:20230119T190000
DTEND;TZID=America/Los_Angeles:20230119T210000
DTSTAMP:20260425T034053
CREATED:20221227T180544Z
LAST-MODIFIED:20221227T180544Z
UID:10002926-1674154800-1674162000@roundmusic.com
SUMMARY:The SOUNDS of THURSDAYS [part three] presents the songs of love\, life\, music and more by Danielle Amber...accompanied by Leyland Foster on the upright bass.
DESCRIPTION:The THIRD of four “Thursday listening experiences” at the Hood Canal Brewery presents the fabulous voice and musical talents of Danielle Amber in the HCB’s front room on January 19th from 7:00 to 9:00PM. Danielle shares her beautiful and masterfully written original songs which she has composed over the years of her very interesting life…both inside and outside of her musical career. Danielle is part of a very rich and accomplished musical family and she carries MORE than that forward into 2023 and beyond. Come on by and enjoy this “one of a kind” musical experience as Danielle assembles her works in new and original ways for the first time in many years.
URL:https://roundmusic.com/event/the-sounds-of-thursdays-part-three-presents-the-songs-of-love-life-music-and-more-by-danielle-amber-accompanied-by-leyland-foster-on-the-upright-bass/
LOCATION:Hood Canal Brewery\, 26499 Bond Rd NE\, Kingston\, WA\, 98346\, United States
CATEGORIES:Folk,Jazz
ATTACH;FMTTYPE=image/jpeg:https://roundmusic.com/wp-content/uploads/2022/12/Danielle-Amber-TALL-2.jpg
END:VEVENT
BEGIN:VEVENT
DTSTART;TZID=America/Los_Angeles:20230105T190000
DTEND;TZID=America/Los_Angeles:20230105T210000
DTSTAMP:20260425T034053
CREATED:20221227T171935Z
LAST-MODIFIED:20221227T174804Z
UID:10002924-1672945200-1672952400@roundmusic.com
SUMMARY:SOUNDS of THURSDAYS with The Foundlings at the Hood Canal Brewery
DESCRIPTION:The Hood canal Brewery presents four “Thursday listening experiences” to start 2023 off in a great way by presenting “The Foundlings” and their Irish-Scottish songs\, stories\, and comic banter. Gary Williams and Tom Lukas present their masterfully choreographed “musical-comedy-theater” for two hours from 7PM to 9PM on January 5th\, 2023.
URL:https://roundmusic.com/event/sounds-of-thursdays-with-the-foundlings-at-hcb/
LOCATION:Hood Canal Brewery\, 26499 Bond Rd NE\, Kingston\, WA\, 98346\, United States
CATEGORIES:Folk
ATTACH;FMTTYPE=image/jpeg:https://roundmusic.com/wp-content/uploads/2022/12/The-Foundlings-real-table-tent.jpg
END:VEVENT
BEGIN:VEVENT
DTSTART;TZID=America/Los_Angeles:20221215T190000
DTEND;TZID=America/Los_Angeles:20221215T210000
DTSTAMP:20260425T034053
CREATED:20221213T083516Z
LAST-MODIFIED:20221213T083516Z
UID:10002922-1671130800-1671138000@roundmusic.com
SUMMARY:"THEN and NOW"     plays at The Hood Canal Brewery
DESCRIPTION:An intimate musical experience performed by:  \n“THEN”\nClive Barry-who shares decades of singer songwriter choices… \n and \n“NOW”\nEli Rusk-a very talented youthful singer-songwriter who shares his own musical choices and writings… \nCome on down to the area’s most intimate front showroom and enjoy the warm performance setting along with the cool Hood Canal Brewery crafted beers…
URL:https://roundmusic.com/event/then-and-now-plays-at-the-hood-canal-brewery/
LOCATION:Hood Canal Brewery\, 26499 Bond Rd NE\, Kingston\, WA\, 98346\, United States
CATEGORIES:Folk
ATTACH;FMTTYPE=image/jpeg:https://roundmusic.com/wp-content/uploads/2022/12/Then-and-Now-horizontal-rotated.jpg
END:VEVENT
BEGIN:VEVENT
DTSTART;TZID=America/Los_Angeles:20220619T183000
DTEND;TZID=America/Los_Angeles:20220619T203000
DTSTAMP:20260425T034053
CREATED:20220616T170454Z
LAST-MODIFIED:20220616T170454Z
UID:10002822-1655663400-1655670600@roundmusic.com
SUMMARY:The Foundlings in Poulsbo
DESCRIPTION:Scottish and Irish Duo ….audience participation welcomed and encouraged.  Hi del diddel didel dum\, Didley duddle didel dum Diddley du ri diddley  i day
URL:https://roundmusic.com/event/the-foundlings-in-poulsbo/
LOCATION:The Brass Kraken\, 18779 Front St NE #7407\, Poulsbo\, WA\, 98370\, United States
CATEGORIES:Folk
ATTACH;FMTTYPE=image/jpeg:https://roundmusic.com/wp-content/uploads/2022/06/Brass-Kracken-2.jpg
END:VEVENT
BEGIN:VEVENT
DTSTART;TZID=America/Los_Angeles:20220610T200000
DTEND;TZID=America/Los_Angeles:20220610T220000
DTSTAMP:20260425T034053
CREATED:20220609T154024Z
LAST-MODIFIED:20220609T154328Z
UID:10002812-1654891200-1654898400@roundmusic.com
SUMMARY:The Foundlings Scottish and Irish Duo @Dunagan
DESCRIPTION:Scottish and Irish Folk Music—Audience Participation Appreciated –Once you learn your part\, the energy rises.
URL:https://roundmusic.com/event/the-foundlings-scottish-and-irish-duo-dunagan/
LOCATION:WA
CATEGORIES:Folk
ATTACH;FMTTYPE=image/jpeg:https://roundmusic.com/wp-content/uploads/2022/06/Dunagan-1-copy.jpg
ORGANIZER;CN="Tom Lukas":MAILTO:LukasMusic2@gmail.com
END:VEVENT
BEGIN:VEVENT
DTSTART;TZID=America/Los_Angeles:20220604T170000
DTEND;TZID=America/Los_Angeles:20220604T200000
DTSTAMP:20260425T034053
CREATED:20220601T001557Z
LAST-MODIFIED:20220601T001647Z
UID:10002803-1654362000-1654372800@roundmusic.com
SUMMARY:The Foundlings Scottish and Irish Duo
DESCRIPTION:Scottish and Irish Folk Music
URL:https://roundmusic.com/event/the-foundlings-scottish-and-irish-duo-3/
LOCATION:Bushel & Barrel Ciderhouse\, 201 NW Beaver Ridge Lane\, Pouslbo\, WA\, 98370\, United States
CATEGORIES:Folk
ATTACH;FMTTYPE=image/jpeg:https://roundmusic.com/wp-content/uploads/2022/05/Bushel-1.jpg
ORGANIZER;CN="Tom Lukas":MAILTO:LukasMusic2@gmail.com
END:VEVENT
BEGIN:VEVENT
DTSTART;TZID=America/Los_Angeles:20220602T190000
DTEND;TZID=America/Los_Angeles:20220602T210000
DTSTAMP:20260425T034053
CREATED:20220601T001122Z
LAST-MODIFIED:20220601T001122Z
UID:10002802-1654196400-1654203600@roundmusic.com
SUMMARY:The Foundlings Scottish and Irish Duo
DESCRIPTION:Scottish and Irish Folk Music
URL:https://roundmusic.com/event/the-foundlings-scottish-and-irish-duo-2/
LOCATION:Hood Canal Brewery\, 26499 Bond Rd NE\, Kingston\, WA\, 98346\, United States
CATEGORIES:Folk
ATTACH;FMTTYPE=image/jpeg:https://roundmusic.com/wp-content/uploads/2022/05/Hood-Canal.jpg
ORGANIZER;CN="Tom Lukas":MAILTO:LukasMusic2@gmail.com
END:VEVENT
BEGIN:VEVENT
DTSTART;TZID=America/Los_Angeles:20220526T160000
DTEND;TZID=America/Los_Angeles:20220526T190000
DTSTAMP:20260425T034053
CREATED:20220526T154302Z
LAST-MODIFIED:20220526T154634Z
UID:10002796-1653580800-1653591600@roundmusic.com
SUMMARY:Lukas At Evergreen Park in Bremerton
DESCRIPTION:The Bremerton Farmer’s Market is at Evergreen Park\, 1400 Park Ave\, Bremerton
URL:https://roundmusic.com/event/lukas-at-evergreen-park-in-bremerton/
LOCATION:WA
CATEGORIES:Country,Folk,Funk
ATTACH;FMTTYPE=image/jpeg:https://roundmusic.com/wp-content/uploads/2022/05/sign-2.jpg
ORGANIZER;CN="Tom Lukas":MAILTO:LukasMusic2@gmail.com
END:VEVENT
BEGIN:VEVENT
DTSTART;TZID=America/Los_Angeles:20220525T170000
DTEND;TZID=America/Los_Angeles:20220525T190000
DTSTAMP:20260425T034053
CREATED:20220520T165740Z
LAST-MODIFIED:20220520T165849Z
UID:10002794-1653498000-1653505200@roundmusic.com
SUMMARY:The Foundlings Scottish and Irish Duo
DESCRIPTION:Scottish and Irish Folk Music
URL:https://roundmusic.com/event/the-foundlings-scottish-and-irish-duo/
LOCATION:Yoked Farmhouse & Brewery\, 525 Pine rd Sw\, Port Orchard\, WA\, 98367\, United States
CATEGORIES:Folk
ATTACH;FMTTYPE=image/jpeg:https://roundmusic.com/wp-content/uploads/2022/05/Gary-tom-Yoked-copy.jpg
ORGANIZER;CN="Tom Lukas":MAILTO:LukasMusic2@gmail.com
END:VEVENT
BEGIN:VEVENT
DTSTART;TZID=America/Los_Angeles:20220518T180000
DTEND;TZID=America/Los_Angeles:20220518T200000
DTSTAMP:20260425T034053
CREATED:20220517T143259Z
LAST-MODIFIED:20220526T152534Z
UID:10002793-1652896800-1652904000@roundmusic.com
SUMMARY:The Foundlings Duo
DESCRIPTION:Scottish & Irish Folk Music
URL:https://roundmusic.com/event/the-foundlings-duo/
LOCATION:Fletcher Bay Winery at Coppertop\, 9415 Coppertop Loop NE\, Suite 102\, Bainbridge Island\, WA\, 98110\, United States
CATEGORIES:Folk
ATTACH;FMTTYPE=image/jpeg:https://roundmusic.com/wp-content/uploads/2022/05/Tom-Gary-2022.jpg
ORGANIZER;CN="Tom Lukas":MAILTO:LukasMusic2@gmail.com
END:VEVENT
BEGIN:VEVENT
DTSTART;TZID=America/Los_Angeles:20220430T190000
DTEND;TZID=America/Los_Angeles:20220430T210000
DTSTAMP:20260425T034053
CREATED:20220323T182101Z
LAST-MODIFIED:20220323T182101Z
UID:10002734-1651345200-1651352400@roundmusic.com
SUMMARY:Call Me Ben at The Hood Canal Brewery
DESCRIPTION:Come on down to the Hood Canal Brewery for some great local craft beer\, friends and live music with Call Me Ben!
URL:https://roundmusic.com/event/call-me-ben-at-the-hood-canal-brewery/
LOCATION:Hood Canal Brewery\, 26499 Bond Rd NE\, Kingston\, WA\, 98346\, United States
CATEGORIES:Acoustic Rock,Folk,Jam Band
ATTACH;FMTTYPE=image/jpeg:https://roundmusic.com/wp-content/uploads/2022/03/HCB4.jpeg
END:VEVENT
BEGIN:VEVENT
DTSTART;TZID=America/Los_Angeles:20220420T183000
DTEND;TZID=America/Los_Angeles:20220420T203000
DTSTAMP:20260425T034053
CREATED:20220419T144855Z
LAST-MODIFIED:20220419T144855Z
UID:10002765-1650479400-1650486600@roundmusic.com
SUMMARY:420 Party at The Brass Kraken with Vin Chawla
DESCRIPTION:Come on down to The Brass Kraken for their 420 party and enjoy 3 new beer releases\, specials and live music with Vin Chawla!
URL:https://roundmusic.com/event/420-party-at-the-brass-kraken-with-vin-chawla/
LOCATION:The Brass Kraken\, 18779 Front St NE #7407\, Poulsbo\, WA\, 98370\, United States
CATEGORIES:Acoustic Rock,Folk
ATTACH;FMTTYPE=image/jpeg:https://roundmusic.com/wp-content/uploads/2022/04/kraken1.jpeg
END:VEVENT
BEGIN:VEVENT
DTSTART;TZID=America/Los_Angeles:20220409T190000
DTEND;TZID=America/Los_Angeles:20220409T210000
DTSTAMP:20260425T034053
CREATED:20220307T220803Z
LAST-MODIFIED:20220410T004406Z
UID:10002718-1649530800-1649538000@roundmusic.com
SUMMARY:Bulleit Brothers at The Parlor Shop
DESCRIPTION:Come on down to The Parlor Shop for some great food\, drinks\, friends and live bluegrass music with The Bulleit Brothers!
URL:https://roundmusic.com/event/bulliet-brothers-at-the-parlor-shop/
LOCATION:The Parlor Shop\, 19815 Viking Ave NW\, Pouslbo\, WA\, 98370\, United States
CATEGORIES:Acoustic Rock,Bluegrass,Folk
ATTACH;FMTTYPE=image/jpeg:https://roundmusic.com/wp-content/uploads/2022/03/parlorShop4.jpeg
END:VEVENT
BEGIN:VEVENT
DTSTART;TZID=America/Los_Angeles:20220309T170000
DTEND;TZID=America/Los_Angeles:20220309T190000
DTSTAMP:20260425T034053
CREATED:20220309T220912Z
LAST-MODIFIED:20220309T220912Z
UID:10002720-1646845200-1646852400@roundmusic.com
SUMMARY:Vin Chawla Live Unplugged at State 42 Wines
DESCRIPTION:Come on down to State 42 Wines for some great local wine and a live unplugged set with Vin Chawla.
URL:https://roundmusic.com/event/vin-chawla-live-unplugged-at-state-42-wines/
LOCATION:State 42 Wines\, 18850 Front St NE\, Poulsbo\, WA\, 98370\, United States
CATEGORIES:Acoustic Rock,Folk
ATTACH;FMTTYPE=image/jpeg:https://roundmusic.com/wp-content/uploads/2022/03/State42WedFbEvent2.jpeg
END:VEVENT
BEGIN:VEVENT
DTSTART;TZID=America/Los_Angeles:20220226T190000
DTEND;TZID=America/Los_Angeles:20220226T210000
DTSTAMP:20260425T034053
CREATED:20220208T230938Z
LAST-MODIFIED:20220208T230938Z
UID:10002697-1645902000-1645909200@roundmusic.com
SUMMARY:Waiting on V at The Parlor Shop
DESCRIPTION:Come down to the Parlor Shop for some great food\, craft cocktails\, friends and live music by Waiting on V!
URL:https://roundmusic.com/event/waiting-on-v-at-the-parlor-shop-2/
LOCATION:The Parlor Shop\, 19815 Viking Ave NW\, Pouslbo\, WA\, 98370\, United States
CATEGORIES:Acoustic Rock,Folk
ATTACH;FMTTYPE=image/jpeg:https://roundmusic.com/wp-content/uploads/2022/02/parlorShop1.jpeg
END:VEVENT
BEGIN:VEVENT
DTSTART;TZID=America/Los_Angeles:20220220T183000
DTEND;TZID=America/Los_Angeles:20220220T203000
DTSTAMP:20260425T034053
CREATED:20220208T222319Z
LAST-MODIFIED:20220218T014205Z
UID:10002695-1645381800-1645389000@roundmusic.com
SUMMARY:An Evening With Thys Wallwork and Mikey Gentry at The Brass Kraken
DESCRIPTION:Come on down to the Brass Kraken on Sunday\, Feb 20 6:30 – 8:30 PM for a great evening of food\, drinks\, friends and live music with Thys Wallwork and Mikey Gentry!
URL:https://roundmusic.com/event/an-evening-with-thys-wallwork-at-the-brass-kraken/
LOCATION:The Brass Kraken\, 18779 Front St NE #7407\, Poulsbo\, WA\, 98370\, United States
CATEGORIES:Acoustic Rock,Folk
ATTACH;FMTTYPE=image/jpeg:https://roundmusic.com/wp-content/uploads/2022/02/thysMikey.jpg
END:VEVENT
BEGIN:VEVENT
DTSTART;TZID=America/Los_Angeles:20220219T190000
DTEND;TZID=America/Los_Angeles:20220219T210000
DTSTAMP:20260425T034053
CREATED:20220208T230345Z
LAST-MODIFIED:20220208T230345Z
UID:10002696-1645297200-1645304400@roundmusic.com
SUMMARY:Artist Showcase at The Parlor Shop
DESCRIPTION:Come on down to the Parlor Shop for some great food\, craft cocktails\, friends and a live music showcase with Gary Walker\, Karena Forbes\, Arlea\, Kyle Bugg and Mike Barnet!
URL:https://roundmusic.com/event/artist-showcase-at-the-parlor-shop/
LOCATION:The Parlor Shop\, 19815 Viking Ave NW\, Pouslbo\, WA\, 98370\, United States
CATEGORIES:Acoustic Rock,Folk
ATTACH;FMTTYPE=image/jpeg:https://roundmusic.com/wp-content/uploads/2022/02/parlorShop.jpeg
END:VEVENT
BEGIN:VEVENT
DTSTART;TZID=America/Los_Angeles:20220216T170000
DTEND;TZID=America/Los_Angeles:20220216T190000
DTSTAMP:20260425T034053
CREATED:20220215T010943Z
LAST-MODIFIED:20220215T010943Z
UID:10002701-1645030800-1645038000@roundmusic.com
SUMMARY:Vin Chawla at State 42 Wines
DESCRIPTION:Come on down to State 42 Wines on Front Street in Poulsbo for some great local wine\, friends and live music with Vin Chawla!
URL:https://roundmusic.com/event/vin-chawla-at-state-42-wines/
LOCATION:State 42 Wines\, 18850 Front St NE\, Poulsbo\, WA\, 98370\, United States
CATEGORIES:Acoustic Rock,Folk
ATTACH;FMTTYPE=image/jpeg:https://roundmusic.com/wp-content/uploads/2022/02/State42WedFbEvent.jpeg
END:VEVENT
BEGIN:VEVENT
DTSTART;TZID=America/Los_Angeles:20220211T190000
DTEND;TZID=America/Los_Angeles:20220211T210000
DTSTAMP:20260425T034053
CREATED:20220131T164356Z
LAST-MODIFIED:20220202T210150Z
UID:10002686-1644606000-1644613200@roundmusic.com
SUMMARY:Call Me Ben at Hood Canal Brewery
DESCRIPTION:Come on down to the Hood Canal Brewery for some local craft beer\, friends and live music with Call Me Ben!
URL:https://roundmusic.com/event/call-me-ben-at-hood-canal-brewery-4/
LOCATION:Hood Canal Brewery\, 26499 Bond Rd NE\, Kingston\, WA\, 98346\, United States
CATEGORIES:Acoustic Rock,Bluegrass,Folk
ATTACH;FMTTYPE=image/jpeg:https://roundmusic.com/wp-content/uploads/2022/01/HCB12.jpeg
END:VEVENT
BEGIN:VEVENT
DTSTART;TZID=America/Los_Angeles:20220209T170000
DTEND;TZID=America/Los_Angeles:20220209T190000
DTSTAMP:20260425T034053
CREATED:20220208T205603Z
LAST-MODIFIED:20220208T205603Z
UID:10002693-1644426000-1644433200@roundmusic.com
SUMMARY:Daniel and Collette at State 42 Wines
DESCRIPTION:Come on down to State 42 Wines on Wednesday for some great local wine\, friends and live music with Daniel and Collette!
URL:https://roundmusic.com/event/daniel-and-collette-at-state-42-wines/
LOCATION:State 42 Wines\, 18850 Front St NE\, Poulsbo\, WA\, 98370\, United States
CATEGORIES:Acoustic Rock,Folk,Open Mic
ATTACH;FMTTYPE=image/jpeg:https://roundmusic.com/wp-content/uploads/2022/02/State42WedFbEvent6.jpeg
END:VEVENT
BEGIN:VEVENT
DTSTART;TZID=America/Los_Angeles:20220206T183000
DTEND;TZID=America/Los_Angeles:20220206T213000
DTSTAMP:20260425T034053
CREATED:20220202T155152Z
LAST-MODIFIED:20220202T155152Z
UID:10002687-1644172200-1644183000@roundmusic.com
SUMMARY:Live Music at The Brass Kraken
DESCRIPTION:Come on down to The Brass Kraken for the kickoff of Live Music on Sundays! This Sunday\, we are doing a round robin featuring many local artists\, including Vin Chawla\, Gary Walker\, Michael McCurdy\, Carlos Santos\, Kyle Bugg\, Mike Barnet\, Keith Tinger\, Karena Forbes\, Patio Miller\, Richard Firth and more…
URL:https://roundmusic.com/event/live-music-at-the-brass-kraken/
LOCATION:The Brass Kraken\, 18779 Front St NE #7407\, Poulsbo\, WA\, 98370\, United States
CATEGORIES:Acoustic Rock,Bluegrass,Folk,Open Mic
ATTACH;FMTTYPE=image/jpeg:https://roundmusic.com/wp-content/uploads/2022/02/kraken4.jpeg
END:VEVENT
BEGIN:VEVENT
DTSTART;TZID=America/Los_Angeles:20220205T190000
DTEND;TZID=America/Los_Angeles:20220205T210000
DTSTAMP:20260425T034053
CREATED:20220131T163521Z
LAST-MODIFIED:20220131T163521Z
UID:10002685-1644087600-1644094800@roundmusic.com
SUMMARY:Michael McCurdy at The Parlor Shop
DESCRIPTION:Come on down to The Parlor Shop for some great food\, craft cocktails\, friends and live music with Michael McCurdy!
URL:https://roundmusic.com/event/michael-mccurdy-at-the-parlor-shop/
LOCATION:The Parlor Shop\, 19815 Viking Ave NW\, Pouslbo\, WA\, 98370\, United States
CATEGORIES:Acoustic Rock,Folk
ATTACH;FMTTYPE=image/jpeg:https://roundmusic.com/wp-content/uploads/2022/01/parlorShop11.jpeg
END:VEVENT
BEGIN:VEVENT
DTSTART;TZID=America/Los_Angeles:20220204T190000
DTEND;TZID=America/Los_Angeles:20220204T210000
DTSTAMP:20260425T034053
CREATED:20220202T210010Z
LAST-MODIFIED:20220202T210010Z
UID:10002688-1644001200-1644008400@roundmusic.com
SUMMARY:David Berger at Hood Canal Brewery
DESCRIPTION:Come on down to the Hood Canal Brewery for some local craft beer\, friends and live local music by David Berger!
URL:https://roundmusic.com/event/david-berger-at-hood-canal-brewery/
LOCATION:Hood Canal Brewery\, 26499 Bond Rd NE\, Kingston\, WA\, 98346\, United States
CATEGORIES:Acoustic Rock,Folk
ATTACH;FMTTYPE=image/jpeg:https://roundmusic.com/wp-content/uploads/2022/02/HCB17.jpeg
END:VEVENT
END:VCALENDAR