BEGIN:VCALENDAR
VERSION:2.0
PRODID:-//RoundMusic - ECPv6.15.20//NONSGML v1.0//EN
CALSCALE:GREGORIAN
METHOD:PUBLISH
X-ORIGINAL-URL:https://roundmusic.com
X-WR-CALDESC:Events for RoundMusic
REFRESH-INTERVAL;VALUE=DURATION:PT1H
X-Robots-Tag:noindex
X-PUBLISHED-TTL:PT1H
BEGIN:VTIMEZONE
TZID:America/Los_Angeles
BEGIN:DAYLIGHT
TZOFFSETFROM:-0800
TZOFFSETTO:-0700
TZNAME:PDT
DTSTART:20210314T100000
END:DAYLIGHT
BEGIN:STANDARD
TZOFFSETFROM:-0700
TZOFFSETTO:-0800
TZNAME:PST
DTSTART:20211107T090000
END:STANDARD
BEGIN:DAYLIGHT
TZOFFSETFROM:-0800
TZOFFSETTO:-0700
TZNAME:PDT
DTSTART:20220313T100000
END:DAYLIGHT
BEGIN:STANDARD
TZOFFSETFROM:-0700
TZOFFSETTO:-0800
TZNAME:PST
DTSTART:20221106T090000
END:STANDARD
BEGIN:DAYLIGHT
TZOFFSETFROM:-0800
TZOFFSETTO:-0700
TZNAME:PDT
DTSTART:20230312T100000
END:DAYLIGHT
BEGIN:STANDARD
TZOFFSETFROM:-0700
TZOFFSETTO:-0800
TZNAME:PST
DTSTART:20231105T090000
END:STANDARD
BEGIN:DAYLIGHT
TZOFFSETFROM:-0800
TZOFFSETTO:-0700
TZNAME:PDT
DTSTART:20240310T100000
END:DAYLIGHT
BEGIN:STANDARD
TZOFFSETFROM:-0700
TZOFFSETTO:-0800
TZNAME:PST
DTSTART:20241103T090000
END:STANDARD
END:VTIMEZONE
BEGIN:VEVENT
DTSTART;TZID=America/Los_Angeles:20230825T180000
DTEND;TZID=America/Los_Angeles:20230825T200000
DTSTAMP:20260420T031014
CREATED:20230818T043931Z
LAST-MODIFIED:20230821T221607Z
UID:10003035-1692986400-1692993600@roundmusic.com
SUMMARY:Cancelled
DESCRIPTION:Cancelled
URL:https://roundmusic.com/event/the-walker-trio-at-bushel-barrel-4/
LOCATION:cancelled
CATEGORIES:Acoustic Rock
END:VEVENT
BEGIN:VEVENT
DTSTART;TZID=America/Los_Angeles:20230818T190000
DTEND;TZID=America/Los_Angeles:20230818T210000
DTSTAMP:20260420T031014
CREATED:20230818T043300Z
LAST-MODIFIED:20230818T043300Z
UID:10003034-1692385200-1692392400@roundmusic.com
SUMMARY:The Gray Ponytail Band at 110 Lounge
DESCRIPTION:We are playing Friday at the 110 Lounge in PBO. 7-9\, come on out!!!\nClassic rock!
URL:https://roundmusic.com/event/the-gray-ponytail-band-at-110-lounge-2/
LOCATION:110 lounge\, 18881 Front St NE\, Poulsbo\, WA\, 98370
CATEGORIES:Jam Band
ATTACH;FMTTYPE=image/jpeg:https://roundmusic.com/wp-content/uploads/2023/08/GPTB.jpg
END:VEVENT
BEGIN:VEVENT
DTSTART;TZID=America/Los_Angeles:20230806T140000
DTEND;TZID=America/Los_Angeles:20230806T160000
DTSTAMP:20260420T031014
CREATED:20230802T200459Z
LAST-MODIFIED:20230802T200459Z
UID:10003030-1691330400-1691337600@roundmusic.com
SUMMARY:The Walker Trio at Eagle Harbor Winery
DESCRIPTION:Playing Sunday at Eagle Harbor Winery from 2-4. Great wine relaxed atmosphere\, great music!
URL:https://roundmusic.com/event/the-walker-trio-at-eagle-harbor-winery/
LOCATION:Eagle Harbor Winery\, 8897 Three Tree Ln NE\,\, Bainbridge Island\, WA\, 98110
CATEGORIES:Acoustic Rock
ATTACH;FMTTYPE=image/jpeg:https://roundmusic.com/wp-content/uploads/2023/08/walker-trio-wamos-2-rotated.jpg
END:VEVENT
BEGIN:VEVENT
DTSTART;TZID=America/Los_Angeles:20230804T190000
DTEND;TZID=America/Los_Angeles:20230804T210000
DTSTAMP:20260420T031014
CREATED:20230802T200100Z
LAST-MODIFIED:20230802T200100Z
UID:10003029-1691175600-1691182800@roundmusic.com
SUMMARY:The Walker Trio at Hood Canal Brewing
DESCRIPTION:Playing Friday at Hood Canal\, Come out and have a great time!
URL:https://roundmusic.com/event/the-walker-trio-at-hood-canal-brewing-2/
LOCATION:Hood Canal Brewery\, 26499 Bond Rd NE\, Kingston\, WA\, 98346\, United States
CATEGORIES:Acoustic Rock
ATTACH;FMTTYPE=image/jpeg:https://roundmusic.com/wp-content/uploads/2023/08/walker-trio-wamos-1-rotated.jpg
END:VEVENT
BEGIN:VEVENT
DTSTART;TZID=America/Los_Angeles:20230802T180000
DTEND;TZID=America/Los_Angeles:20230802T200000
DTSTAMP:20260420T031014
CREATED:20230802T195909Z
LAST-MODIFIED:20230802T195909Z
UID:10003028-1690999200-1691006400@roundmusic.com
SUMMARY:The Walker Trio at Fletcher Bay Winery
DESCRIPTION:Playing tonight from 6-8\, come on out!!
URL:https://roundmusic.com/event/the-walker-trio-at-fletcher-bay-winery-2/
LOCATION:Fletcher Bay Winery at Coppertop\, 9415 Coppertop Loop NE\, Suite 102\, Bainbridge Island\, WA\, 98110\, United States
CATEGORIES:Acoustic Rock
ATTACH;FMTTYPE=image/jpeg:https://roundmusic.com/wp-content/uploads/2023/08/walker-trio-wamos-rotated.jpg
END:VEVENT
BEGIN:VEVENT
DTSTART;TZID=America/Los_Angeles:20230721T190000
DTEND;TZID=America/Los_Angeles:20230721T210000
DTSTAMP:20260420T031014
CREATED:20230719T202653Z
LAST-MODIFIED:20230719T202653Z
UID:10003021-1689966000-1689973200@roundmusic.com
SUMMARY:The Gray Ponytail Band at 110 Lounge
DESCRIPTION:The Gray Ponytail Band will be playing 7-9 at 110 Lounge in Poulsbo this Friday. Come on out and listen to some classic rock tunes!!
URL:https://roundmusic.com/event/the-gray-ponytail-band-at-110-lounge/
LOCATION:110 lounge\, 18881 Front St NE\, Poulsbo\, WA\, 98370
CATEGORIES:Jam Band
END:VEVENT
BEGIN:VEVENT
DTSTART;TZID=America/Los_Angeles:20230715T180000
DTEND;TZID=America/Los_Angeles:20230715T200000
DTSTAMP:20260420T031014
CREATED:20230713T011225Z
LAST-MODIFIED:20230713T011225Z
UID:10003018-1689444000-1689451200@roundmusic.com
SUMMARY:Gary Walker playing solo at Hard Hat Winery
DESCRIPTION:Well\, I am doing a solo gig this Saturday at a new venue\, Hard Hat Winery on highway 3 a half mile past Bushell and Barrel\, turn left at the Zimmer Pit sign.\nCome on out and help support live music at a new venue.
URL:https://roundmusic.com/event/gary-walker-playing-solo-at-hard-hat-winery/
LOCATION:Hard Hat Winery\, 27055 highway 3\, Poulsbo\, WA
CATEGORIES:Acoustic Rock
ATTACH;FMTTYPE=image/jpeg:https://roundmusic.com/wp-content/uploads/2023/07/image003.jpg
END:VEVENT
BEGIN:VEVENT
DTSTART;TZID=America/Los_Angeles:20230714T190000
DTEND;TZID=America/Los_Angeles:20230714T210000
DTSTAMP:20260420T031014
CREATED:20230713T010733Z
LAST-MODIFIED:20230713T010733Z
UID:10003017-1689361200-1689368400@roundmusic.com
SUMMARY:The Walker Trio at Hood Canal Brewing
DESCRIPTION:Hi folks\,\nThe trio will be playing at Hood Canal this Friday from 7-9. We will have a special guest\, David Weinstock sitting in on harmonica\, percussion and harmonies.\nShould be another great fun night.\nCome on out!!!!
URL:https://roundmusic.com/event/the-walker-trio-at-hood-canal-brewing/
LOCATION:Hood Canal Brewery\, 26499 Bond Rd NE\, Kingston\, WA\, 98346\, United States
CATEGORIES:Acoustic Rock
ATTACH;FMTTYPE=image/jpeg:https://roundmusic.com/wp-content/uploads/2023/07/walker-trio-wamos-rotated.jpg
END:VEVENT
BEGIN:VEVENT
DTSTART;TZID=America/Los_Angeles:20230708T190000
DTEND;TZID=America/Los_Angeles:20230708T210000
DTSTAMP:20260420T031014
CREATED:20230704T161918Z
LAST-MODIFIED:20230704T161918Z
UID:10003015-1688842800-1688850000@roundmusic.com
SUMMARY:The Gray Ponytail Band at Hood Canal
DESCRIPTION:The Gray Ponytail Band will be playing at Hood Canal Brewing on Saturday July 8 from 7-9. Come on out and listen to some classic rock tunes played by a couple of old coots with ELECTRIC Guitars!
URL:https://roundmusic.com/event/the-gray-ponytail-band-at-hood-canal/
LOCATION:Hood Canal Brewery\, 26499 Bond Rd NE\, Kingston\, WA\, 98346\, United States
CATEGORIES:Jam Band
ATTACH;FMTTYPE=image/jpeg:https://roundmusic.com/wp-content/uploads/2023/07/GPTB.jpg
END:VEVENT
BEGIN:VEVENT
DTSTART;TZID=America/Los_Angeles:20230707T180000
DTEND;TZID=America/Los_Angeles:20230707T200000
DTSTAMP:20260420T031014
CREATED:20230704T162515Z
LAST-MODIFIED:20230704T162515Z
UID:10003016-1688752800-1688760000@roundmusic.com
SUMMARY:The Walker Trio at Artwalk Bainbridge
DESCRIPTION:The Walker Trio will be playing Artwalk on Winslow way. We will be playing at Bainbridge Arts and Crafts from 6-8. We will have a special guest\, Sarah Favret\, so don’t miss it!
URL:https://roundmusic.com/event/the-walker-trio-at-artwalk-bainbridge/
LOCATION:Bainbidge Arts and Crafts\, 151 Winslow Way E\, Bainbridge Island\, WA\, 98110
CATEGORIES:Acoustic Rock
ATTACH;FMTTYPE=image/jpeg:https://roundmusic.com/wp-content/uploads/2023/07/Marypic.jpg
END:VEVENT
BEGIN:VEVENT
DTSTART;TZID=America/Los_Angeles:20230701T170000
DTEND;TZID=America/Los_Angeles:20230701T180000
DTSTAMP:20260420T031014
CREATED:20230629T185415Z
LAST-MODIFIED:20230629T185415Z
UID:10003014-1688230800-1688234400@roundmusic.com
SUMMARY:The Walker Trio at The Saturday Evening Market in Kingston
DESCRIPTION:The Walker Trio will be playing at the Saturday Evening Market in Kingston across from The Filling Station\, from 5-5:45 this Saturday. Come on out and support the new Evening Market!
URL:https://roundmusic.com/event/the-walker-trio-at-the-saturday-evening-market-in-kingston/
LOCATION:Sat. Eve. Mkt.\, 25960 Central Ave NE\, Kingston\, WA
ATTACH;FMTTYPE=image/jpeg:https://roundmusic.com/wp-content/uploads/2023/06/walker-trio-wamos-1-rotated.jpg
END:VEVENT
BEGIN:VEVENT
DTSTART;TZID=America/Los_Angeles:20230623T180000
DTEND;TZID=America/Los_Angeles:20230623T200000
DTSTAMP:20260420T031014
CREATED:20230619T202541Z
LAST-MODIFIED:20230619T202541Z
UID:10003012-1687543200-1687550400@roundmusic.com
SUMMARY:The Walker Trio at Bushel & Barrel
DESCRIPTION:The Walker Trio will be playing at Bushel & Barrel Friday from 6-8. Come on out\, Enjoy live music and good spirits!
URL:https://roundmusic.com/event/the-walker-trio-at-bushel-barrel-3/
LOCATION:Bushel & Barrel Ciderhouse\, 201 NW Beaver Ridge Lane\, Pouslbo\, WA\, 98370\, United States
CATEGORIES:Acoustic Rock
ATTACH;FMTTYPE=image/jpeg:https://roundmusic.com/wp-content/uploads/2023/06/walker-trio-wamos-rotated.jpg
END:VEVENT
BEGIN:VEVENT
DTSTART;TZID=America/Los_Angeles:20230616T190000
DTEND;TZID=America/Los_Angeles:20230616T210000
DTSTAMP:20260420T031014
CREATED:20230613T031315Z
LAST-MODIFIED:20230613T031315Z
UID:10003010-1686942000-1686949200@roundmusic.com
SUMMARY:The Grey Ponytail Band at 110 Lounge
DESCRIPTION:Hi Folks\,\nthe Grey Ponytail Band will be playing at a new venue in Poulsbo\, the 110 Lounge on Friday the 16th from 7-9.\nCome on out and here some classic rock tunes.
URL:https://roundmusic.com/event/the-grey-ponytail-band-at-110-lounge/
LOCATION:110 lounge\, 18881 Front St NE\, Poulsbo\, WA\, 98370
CATEGORIES:Jam Band
ATTACH;FMTTYPE=image/jpeg:https://roundmusic.com/wp-content/uploads/2023/06/GPTB.jpg
END:VEVENT
BEGIN:VEVENT
DTSTART;TZID=America/Los_Angeles:20230519T200000
DTEND;TZID=America/Los_Angeles:20230519T220000
DTSTAMP:20260420T031014
CREATED:20230506T183736Z
LAST-MODIFIED:20230506T183736Z
UID:10003002-1684526400-1684533600@roundmusic.com
SUMMARY:The Walker Trio at The Rock (wood fired pizza)
DESCRIPTION:The Trio is playing at this new venue at the Silverdale Mall. Great pizza lots of beers!! come on out and help to kick off this new music venue!
URL:https://roundmusic.com/event/the-walker-trio-at-the-rock-wood-fired-pizza/
LOCATION:The Rock wood fired pizza\, 10315 Silverdale Way NW\, Silverdsale\, WA\, 98383
CATEGORIES:Acoustic Rock,Folk
ATTACH;FMTTYPE=image/jpeg:https://roundmusic.com/wp-content/uploads/2023/05/Walker-trio-amos-rotated.jpg
END:VEVENT
BEGIN:VEVENT
DTSTART;TZID=America/Los_Angeles:20230512T180000
DTEND;TZID=America/Los_Angeles:20230512T200000
DTSTAMP:20260420T031014
CREATED:20230506T183230Z
LAST-MODIFIED:20230506T183230Z
UID:10003001-1683914400-1683921600@roundmusic.com
SUMMARY:The Walker Trio at Downpour Brewing
DESCRIPTION:The Walker Trio will be playing at Downpour Brewing Friday May 12. Come on out and have a beer get some food\, enjoy!!
URL:https://roundmusic.com/event/the-walker-trio-at-downpour-brewing/
LOCATION:Downpour Brewing\, 10991 NE State Hwy 104\, Kingston\, WA\, 98346\, United States
CATEGORIES:Acoustic Rock,Folk
ATTACH;FMTTYPE=image/jpeg:https://roundmusic.com/wp-content/uploads/2023/05/walker-trio-wamos-rotated.jpg
END:VEVENT
BEGIN:VEVENT
DTSTART;TZID=America/Los_Angeles:20230408T190000
DTEND;TZID=America/Los_Angeles:20230408T210000
DTSTAMP:20260420T031014
CREATED:20230406T171128Z
LAST-MODIFIED:20230406T171128Z
UID:10002978-1680980400-1680987600@roundmusic.com
SUMMARY:The Gray Ponytails Band
DESCRIPTION:The Gray Ponytails Band ( Gary Walker and Larry Prange) will be playing Hood Canal Brewing on Saturday the 8th\, from 7-9 PM. We have put together a classic rock duo\, playing hits from the 60’s \, 70’s and 80’s. Come on out and have some beers!
URL:https://roundmusic.com/event/the-gray-ponytails-band/
LOCATION:Hood Canal Brewery\, 26499 Bond Rd NE\, Kingston\, WA\, 98346\, United States
CATEGORIES:Jam Band
ATTACH;FMTTYPE=image/jpeg:https://roundmusic.com/wp-content/uploads/2023/04/IMG_1724.jpg
END:VEVENT
BEGIN:VEVENT
DTSTART;TZID=America/Los_Angeles:20220902T170000
DTEND;TZID=America/Los_Angeles:20220902T200000
DTSTAMP:20260420T031014
CREATED:20220830T221904Z
LAST-MODIFIED:20220830T221904Z
UID:10002837-1662138000-1662148800@roundmusic.com
SUMMARY:The Walker Trio at Echoes Brewing
DESCRIPTION:Hi folks\,\nwe are plying this Friday from 5-8 at Echoes Brewing in Poulsbo. Should be a fine evening\, great weather\, great beer\, great music!
URL:https://roundmusic.com/event/the-walker-trio-at-echoes-brewing/
LOCATION:Echoes Brewing Company\, 19479 Viking Ave NW\, Poulsbo\, WA\, 98370\, United States
ATTACH;FMTTYPE=image/png:https://roundmusic.com/wp-content/uploads/2022/08/Echoes-Brewing.png
END:VEVENT
END:VCALENDAR