BEGIN:VCALENDAR
VERSION:2.0
PRODID:-//RoundMusic - ECPv6.15.20//NONSGML v1.0//EN
CALSCALE:GREGORIAN
METHOD:PUBLISH
X-WR-CALNAME:RoundMusic
X-ORIGINAL-URL:https://roundmusic.com
X-WR-CALDESC:Events for RoundMusic
REFRESH-INTERVAL;VALUE=DURATION:PT1H
X-Robots-Tag:noindex
X-PUBLISHED-TTL:PT1H
BEGIN:VTIMEZONE
TZID:America/Los_Angeles
BEGIN:DAYLIGHT
TZOFFSETFROM:-0800
TZOFFSETTO:-0700
TZNAME:PDT
DTSTART:20230312T100000
END:DAYLIGHT
BEGIN:STANDARD
TZOFFSETFROM:-0700
TZOFFSETTO:-0800
TZNAME:PST
DTSTART:20231105T090000
END:STANDARD
BEGIN:DAYLIGHT
TZOFFSETFROM:-0800
TZOFFSETTO:-0700
TZNAME:PDT
DTSTART:20240310T100000
END:DAYLIGHT
BEGIN:STANDARD
TZOFFSETFROM:-0700
TZOFFSETTO:-0800
TZNAME:PST
DTSTART:20241103T090000
END:STANDARD
BEGIN:DAYLIGHT
TZOFFSETFROM:-0800
TZOFFSETTO:-0700
TZNAME:PDT
DTSTART:20250309T100000
END:DAYLIGHT
BEGIN:STANDARD
TZOFFSETFROM:-0700
TZOFFSETTO:-0800
TZNAME:PST
DTSTART:20251102T090000
END:STANDARD
END:VTIMEZONE
BEGIN:VEVENT
DTSTART;TZID=America/Los_Angeles:20240929T183000
DTEND;TZID=America/Los_Angeles:20240929T203000
DTSTAMP:20260424T024156
CREATED:20240705T204505Z
LAST-MODIFIED:20240707T010444Z
UID:10003361-1727634600-1727641800@roundmusic.com
SUMMARY:Molo plays the Brass Kraken in Poulsbo
DESCRIPTION:Molo will be playing at the Brass Kraken on Sunday September 29th from 6:30 to 8:30pm.  Molo plays; Jazz\, Blues\, Rock and Country.  John Willett is the lead singer and writes\, plays rhythm guitar and harmonica\, with Tom Kuniholm on Lead guitar and Mick Nickelson on Bass.  Molo is all about getting in the groove and getting your toes taping and your feet wanting to dance!
URL:https://roundmusic.com/event/molo-plays-the-brass-kraken-in-poulsbo/
LOCATION:The Brass Kraken\, 18779 Front St NE #7407\, Poulsbo\, WA\, 98370\, United States
CATEGORIES:Jam Band
ATTACH;FMTTYPE=image/jpeg:https://roundmusic.com/wp-content/uploads/2024/07/Molo-2023-Fletcher-Bay.jpg
ORGANIZER;CN="john willett":MAILTO:johnwillett@embarqmail.com
END:VEVENT
BEGIN:VEVENT
DTSTART;TZID=America/Los_Angeles:20240706T103000
DTEND;TZID=America/Los_Angeles:20240706T133000
DTSTAMP:20260424T024157
CREATED:20240302T020000Z
LAST-MODIFIED:20240302T020000Z
UID:10003300-1720261800-1720272600@roundmusic.com
SUMMARY:Molo plays Poulsbo Saturday Farmers Market
DESCRIPTION:Molo plays Jazz\, Blues\, Country and a little bit of that ol Rock and Roll.  Poulsbo Farmers market is on Saturdays and lots of great food\, farm fresh foods to buy and artisans wares.  Come and celebrate the 4th of July holidays at the market.
URL:https://roundmusic.com/event/molo-plays-poulsbo-saturday-farmers-market/
LOCATION:Poulsbo Farmer’s Market\, 18901 8th Ave NE\, Poulsbo\, WA\, 98370\, United States
CATEGORIES:Jug Band
ATTACH;FMTTYPE=image/jpeg:https://roundmusic.com/wp-content/uploads/2024/03/Molo-2018-PFM-7.21.18.jpg
ORGANIZER;CN="john willett":MAILTO:johnwillett@embarqmail.com
END:VEVENT
BEGIN:VEVENT
DTSTART;TZID=America/Los_Angeles:20240629T180000
DTEND;TZID=America/Los_Angeles:20240629T200000
DTSTAMP:20260424T024157
CREATED:20240225T000802Z
LAST-MODIFIED:20240225T000802Z
UID:10003294-1719684000-1719691200@roundmusic.com
SUMMARY:Molo band at Sully's Bar and Grill
DESCRIPTION:Molo plays Jazz\, Blues and Country.  Get your toes tapping and your legs moving as Molo gets your Mojo working.\nMore Molo; http://www.johnwillettandmoloband.com
URL:https://roundmusic.com/event/molo-band-at-sullys-bar-and-grill/
LOCATION:Sully’s Bistro and Bar\, 7234 NE Parkway St\, Suquamish\, WA\, 98392\, United States
CATEGORIES:Jam Band
ATTACH;FMTTYPE=image/jpeg:https://roundmusic.com/wp-content/uploads/2024/02/Molo-2010-KIngston.jpg
ORGANIZER;CN="john willett":MAILTO:johnwillett@embarqmail.com
END:VEVENT
BEGIN:VEVENT
DTSTART;TZID=America/Los_Angeles:20240626T180000
DTEND;TZID=America/Los_Angeles:20240626T200000
DTSTAMP:20260424T024157
CREATED:20240225T001404Z
LAST-MODIFIED:20240225T001404Z
UID:10003295-1719424800-1719432000@roundmusic.com
SUMMARY:Molo band at Fletcher Bay winery Coppertop
DESCRIPTION:Molo plays jazz\, Blues and Country.  Get your toes tapping and your legs moving as Molo gets your Mojo working.\nMore Molo; http://www.johnwillettandmoloband.com
URL:https://roundmusic.com/event/molo-band-at-fletcher-bay-winery-coppertop/
LOCATION:Fletcher Bay Winery at Coppertop\, 9415 Coppertop Loop NE\, Suite 102\, Bainbridge Island\, WA\, 98110\, United States
CATEGORIES:Jam Band
ATTACH;FMTTYPE=image/jpeg:https://roundmusic.com/wp-content/uploads/2024/02/Molo-2010-KIngston-1.jpg
ORGANIZER;CN="john willett":MAILTO:johnwillett@embarqmail.com
END:VEVENT
BEGIN:VEVENT
DTSTART;TZID=America/Los_Angeles:20240531T080000
DTEND;TZID=America/Los_Angeles:20240531T170000
DTSTAMP:20260424T024157
CREATED:20240125T011945Z
LAST-MODIFIED:20240225T003225Z
UID:10003225-1717142400-1717174800@roundmusic.com
SUMMARY:Molo band at Hard Hat Winery
DESCRIPTION:Hard Hat Winery is in Lofall WA on Hwy 3.  A few miles notrth of Poulsbo and just past the Hilltop Gas Station about 220 yds on the west side of highway.
URL:https://roundmusic.com/event/molo-band-at-hard-hat-winery/2024-05-31/
CATEGORIES:Jam Band
ATTACH;FMTTYPE=image/jpeg:https://roundmusic.com/wp-content/uploads/2024/01/JW-Kingston-2010.jpg
ORGANIZER;CN="john willett":MAILTO:johnwillett@embarqmail.com
END:VEVENT
BEGIN:VEVENT
DTSTART;TZID=America/Los_Angeles:20240329T160000
DTEND;TZID=America/Los_Angeles:20240329T180000
DTSTAMP:20260424T024157
CREATED:20240125T011945Z
LAST-MODIFIED:20240225T003225Z
UID:10003224-1711728000-1711735200@roundmusic.com
SUMMARY:Molo band at Hard Hat Winery
DESCRIPTION:Hard Hat Winery is in Lofall WA on Hwy 3.  A few miles notrth of Poulsbo and just past the Hilltop Gas Station about 220 yds on the west side of highway.
URL:https://roundmusic.com/event/molo-band-at-hard-hat-winery/2024-03-29/
CATEGORIES:Jam Band
ATTACH;FMTTYPE=image/jpeg:https://roundmusic.com/wp-content/uploads/2024/01/JW-Kingston-2010.jpg
ORGANIZER;CN="john willett":MAILTO:johnwillett@embarqmail.com
END:VEVENT
BEGIN:VEVENT
DTSTART;TZID=America/Los_Angeles:20240322T180000
DTEND;TZID=America/Los_Angeles:20240322T200000
DTSTAMP:20260424T024157
CREATED:20240224T235807Z
LAST-MODIFIED:20240225T003104Z
UID:10003293-1711130400-1711137600@roundmusic.com
SUMMARY:Molo band at Bushel and Barrel
DESCRIPTION:Molo Plays Jazz\, Blues and Country.  Get your toes tapping and your legs moving to the groove as Molo gets your Mojo working
URL:https://roundmusic.com/event/molo-band-at-bushel-and-barrel/
LOCATION:Bushel & Barrel Ciderhouse\, 201 NW Beaver Ridge Lane\, Pouslbo\, WA\, 98370\, United States
CATEGORIES:Jam Band
ATTACH;FMTTYPE=image/jpeg:https://roundmusic.com/wp-content/uploads/2024/02/Molo-2010-KIngston-3.jpg
ORGANIZER;CN="john willett":MAILTO:johnwillett@embarqmail.com
END:VEVENT
END:VCALENDAR