BEGIN:VCALENDAR
VERSION:2.0
PRODID:-//RoundMusic - ECPv6.15.20//NONSGML v1.0//EN
CALSCALE:GREGORIAN
METHOD:PUBLISH
X-ORIGINAL-URL:https://roundmusic.com
X-WR-CALDESC:Events for RoundMusic
REFRESH-INTERVAL;VALUE=DURATION:PT1H
X-Robots-Tag:noindex
X-PUBLISHED-TTL:PT1H
BEGIN:VTIMEZONE
TZID:America/Los_Angeles
BEGIN:DAYLIGHT
TZOFFSETFROM:-0800
TZOFFSETTO:-0700
TZNAME:PDT
DTSTART:20210314T100000
END:DAYLIGHT
BEGIN:STANDARD
TZOFFSETFROM:-0700
TZOFFSETTO:-0800
TZNAME:PST
DTSTART:20211107T090000
END:STANDARD
BEGIN:DAYLIGHT
TZOFFSETFROM:-0800
TZOFFSETTO:-0700
TZNAME:PDT
DTSTART:20220313T100000
END:DAYLIGHT
BEGIN:STANDARD
TZOFFSETFROM:-0700
TZOFFSETTO:-0800
TZNAME:PST
DTSTART:20221106T090000
END:STANDARD
BEGIN:DAYLIGHT
TZOFFSETFROM:-0800
TZOFFSETTO:-0700
TZNAME:PDT
DTSTART:20230312T100000
END:DAYLIGHT
BEGIN:STANDARD
TZOFFSETFROM:-0700
TZOFFSETTO:-0800
TZNAME:PST
DTSTART:20231105T090000
END:STANDARD
END:VTIMEZONE
BEGIN:VEVENT
DTSTART;TZID=America/Los_Angeles:20220610T170000
DTEND;TZID=America/Los_Angeles:20220610T200000
DTSTAMP:20260422T025431
CREATED:20220504T175237Z
LAST-MODIFIED:20220609T183524Z
UID:10002777-1654880400-1654891200@roundmusic.com
SUMMARY:Chris Switzer at Echoes Brewing Company
DESCRIPTION:Live music with Chris Switzer.
URL:https://roundmusic.com/event/chris-switzer-at-echoes-brewing-company/
LOCATION:Echoes Brewing Company\, 19479 Viking Ave NW\, Poulsbo\, WA\, 98370\, United States
ATTACH;FMTTYPE=image/jpeg:https://roundmusic.com/wp-content/uploads/2022/05/echoes.jpeg
END:VEVENT
BEGIN:VEVENT
DTSTART;TZID=America/Los_Angeles:20220604T170000
DTEND;TZID=America/Los_Angeles:20220604T200000
DTSTAMP:20260422T025431
CREATED:20220504T175135Z
LAST-MODIFIED:20220504T175135Z
UID:10002776-1654362000-1654372800@roundmusic.com
SUMMARY:Daniel Bural at Echoes Brewing Company
DESCRIPTION:Live music with Daniel Bural from 5-8PM.
URL:https://roundmusic.com/event/daniel-bural-at-echoes-brewing-company/
LOCATION:Echoes Brewing Company\, 19479 Viking Ave NW\, Poulsbo\, WA\, 98370\, United States
ATTACH;FMTTYPE=image/jpeg:https://roundmusic.com/wp-content/uploads/2022/05/echoes.jpeg
END:VEVENT
BEGIN:VEVENT
DTSTART;TZID=America/Los_Angeles:20220603T170000
DTEND;TZID=America/Los_Angeles:20220603T200000
DTSTAMP:20260422T025431
CREATED:20220504T174933Z
LAST-MODIFIED:20220504T174933Z
UID:10002775-1654275600-1654286400@roundmusic.com
SUMMARY:Don't Call Me Ben at Echoes Brewing Company
DESCRIPTION:Live music with Don’t Call Me Ben from 5-8!
URL:https://roundmusic.com/event/dont-call-me-ben-at-echoes-brewing-company/
LOCATION:Echoes Brewing Company\, 19479 Viking Ave NW\, Poulsbo\, WA\, 98370\, United States
ATTACH;FMTTYPE=image/jpeg:https://roundmusic.com/wp-content/uploads/2022/05/echoes.jpeg
END:VEVENT
BEGIN:VEVENT
DTSTART;TZID=America/Los_Angeles:20220528T170000
DTEND;TZID=America/Los_Angeles:20220528T200000
DTSTAMP:20260422T025431
CREATED:20220504T174641Z
LAST-MODIFIED:20220506T230740Z
UID:10002774-1653757200-1653768000@roundmusic.com
SUMMARY:Zach Fleury at Echoes Brewing Company
DESCRIPTION:Live music at Echoes Brewing Company by Zach Fleury!
URL:https://roundmusic.com/event/zach-fleury-at-echoes-brewing-company/
LOCATION:Echoes Brewing Company\, 19479 Viking Ave NW\, Poulsbo\, WA\, 98370\, United States
ATTACH;FMTTYPE=image/jpeg:https://roundmusic.com/wp-content/uploads/2022/05/echoes.jpeg
END:VEVENT
END:VCALENDAR